##############################################################################
##############################################################################
###
### Running command:
###
###   rm -rf HiTC.buildbin-libdir && mkdir HiTC.buildbin-libdir && F:\biocbuild\bbs-3.18-bioc\R\bin\R.exe CMD INSTALL --build --library=HiTC.buildbin-libdir HiTC_1.46.0.tar.gz
###
##############################################################################
##############################################################################


* installing *source* package 'HiTC' ...
** using staged installation
** R
** data
** inst
** byte-compile and prepare package for lazy loading
** help
*** installing help indices
** building package indices
** installing vignettes
** testing if installed package can be loaded from temporary location
** testing if installed package can be loaded from final location
** testing if installed package keeps a record of temporary installation path
* MD5 sums
packaged installation of 'HiTC' as HiTC_1.46.0.zip
* DONE (HiTC)