Package: HubPub Version: 1.10.1 Command: rm -rf HubPub.buildbin-libdir && mkdir HubPub.buildbin-libdir && /Users/biocbuild/BBS/utils/build-universal.sh HubPub_1.10.1.tar.gz /Library/Frameworks/R.framework/Resources/bin/R HubPub.buildbin-libdir StartedAt: 2024-03-04 00:45:55 -0500 (Mon, 04 Mar 2024) EndedAt: 2024-03-04 00:46:04 -0500 (Mon, 04 Mar 2024) EllapsedTime: 9.0 seconds RetCode: 0 Status: OK PackageFile: HubPub_1.10.1.tgz PackageFileSize: 953.2 KiB