Package: HubPub Version: 1.10.1 Command: /Library/Frameworks/R.framework/Resources/bin/R CMD check --install=check:HubPub.install-out.txt --library=/Library/Frameworks/R.framework/Resources/library --no-vignettes --timings HubPub_1.10.1.tar.gz StartedAt: 2024-03-03 21:12:00 -0500 (Sun, 03 Mar 2024) EndedAt: 2024-03-03 21:14:02 -0500 (Sun, 03 Mar 2024) EllapsedTime: 121.6 seconds RetCode: 0 Status: OK CheckDir: HubPub.Rcheck Warnings: 0