Package: HubPub Version: 1.10.1 Command: /Library/Frameworks/R.framework/Resources/bin/R CMD INSTALL HubPub StartedAt: 2024-03-03 15:17:53 -0500 (Sun, 03 Mar 2024) EndedAt: 2024-03-03 15:18:00 -0500 (Sun, 03 Mar 2024) EllapsedTime: 6.6 seconds RetCode: 0 Status: OK