Package: HumanTranscriptomeCompendium Version: 1.18.1 Command: rm -rf HumanTranscriptomeCompendium.buildbin-libdir && mkdir HumanTranscriptomeCompendium.buildbin-libdir && F:\biocbuild\bbs-3.18-bioc\R\bin\R.exe CMD INSTALL --build --library=HumanTranscriptomeCompendium.buildbin-libdir HumanTranscriptomeCompendium_1.18.1.tar.gz StartedAt: 2024-04-11 07:08:45 -0400 (Thu, 11 Apr 2024) EndedAt: 2024-04-11 07:09:16 -0400 (Thu, 11 Apr 2024) EllapsedTime: 31.4 seconds RetCode: 0 Status: OK PackageFile: HumanTranscriptomeCompendium_1.18.1.zip PackageFileSize: 2.044 MiB