Package: HumanTranscriptomeCompendium Version: 1.18.1 Command: F:\biocbuild\bbs-3.18-bioc\R\bin\R.exe CMD check --no-multiarch --install=check:HumanTranscriptomeCompendium.install-out.txt --library=F:\biocbuild\bbs-3.18-bioc\R\library --no-vignettes --timings HumanTranscriptomeCompendium_1.18.1.tar.gz StartedAt: 2024-04-11 01:41:41 -0400 (Thu, 11 Apr 2024) EndedAt: 2024-04-11 01:45:13 -0400 (Thu, 11 Apr 2024) EllapsedTime: 212.5 seconds RetCode: 0 Status: OK CheckDir: HumanTranscriptomeCompendium.Rcheck Warnings: 0