Package: IHW Version: 1.30.0 Command: /home/biocbuild/bbs-3.18-bioc/R/bin/R CMD build --keep-empty-dirs --no-resave-data IHW StartedAt: 2024-04-15 17:34:25 -0400 (Mon, 15 Apr 2024) EndedAt: 2024-04-15 17:36:55 -0400 (Mon, 15 Apr 2024) EllapsedTime: 150.1 seconds RetCode: 0 Status: OK PackageFile: IHW_1.30.0.tar.gz PackageFileSize: 3.566 MiB