Package: IHW Version: 1.30.0 Command: /home/biocbuild/bbs-3.18-bioc/R/bin/R CMD INSTALL IHW StartedAt: 2024-04-15 15:19:00 -0400 (Mon, 15 Apr 2024) EndedAt: 2024-04-15 15:19:03 -0400 (Mon, 15 Apr 2024) EllapsedTime: 3.5 seconds RetCode: 0 Status: OK