Package: IHW Version: 1.30.0 Command: rm -rf IHW.buildbin-libdir && mkdir IHW.buildbin-libdir && F:\biocbuild\bbs-3.18-bioc\R\bin\R.exe CMD INSTALL --build --library=IHW.buildbin-libdir IHW_1.30.0.tar.gz StartedAt: 2024-02-27 10:49:29 -0500 (Tue, 27 Feb 2024) EndedAt: 2024-02-27 10:49:38 -0500 (Tue, 27 Feb 2024) EllapsedTime: 9.0 seconds RetCode: 0 Status: OK PackageFile: IHW_1.30.0.zip PackageFileSize: 1.632 MiB