Package: IMMAN Version: 1.22.0 Command: rm -rf IMMAN.buildbin-libdir && mkdir IMMAN.buildbin-libdir && /Users/biocbuild/BBS/utils/build-universal.sh IMMAN_1.22.0.tar.gz /Library/Frameworks/R.framework/Resources/bin/R IMMAN.buildbin-libdir StartedAt: 2024-03-04 00:46:25 -0500 (Mon, 04 Mar 2024) EndedAt: 2024-03-04 00:46:46 -0500 (Mon, 04 Mar 2024) EllapsedTime: 20.6 seconds RetCode: 0 Status: OK PackageFile: IMMAN_1.22.0.tgz PackageFileSize: 78.39 KiB