Package: IMMAN Version: 1.22.0 Command: /Library/Frameworks/R.framework/Resources/bin/R CMD INSTALL IMMAN StartedAt: 2024-03-03 15:10:51 -0500 (Sun, 03 Mar 2024) EndedAt: 2024-03-03 15:11:08 -0500 (Sun, 03 Mar 2024) EllapsedTime: 16.8 seconds RetCode: 0 Status: OK