Package: IMMAN Version: 1.22.0 Command: /home/biocbuild/bbs-3.18-bioc/R/bin/R CMD INSTALL IMMAN StartedAt: 2024-04-15 15:15:49 -0400 (Mon, 15 Apr 2024) EndedAt: 2024-04-15 15:16:02 -0400 (Mon, 15 Apr 2024) EllapsedTime: 12.5 seconds RetCode: 0 Status: OK