Package: IMMAN Version: 1.22.0 Command: rm -rf IMMAN.buildbin-libdir && mkdir IMMAN.buildbin-libdir && F:\biocbuild\bbs-3.18-bioc\R\bin\R.exe CMD INSTALL --build --library=IMMAN.buildbin-libdir IMMAN_1.22.0.tar.gz StartedAt: 2024-04-16 07:09:50 -0400 (Tue, 16 Apr 2024) EndedAt: 2024-04-16 07:10:05 -0400 (Tue, 16 Apr 2024) EllapsedTime: 15.3 seconds RetCode: 0 Status: OK PackageFile: IMMAN_1.22.0.zip PackageFileSize: 65.15 KiB