Package: IPO Version: 1.28.0 Command: /home/biocbuild/R/R-4.3.1/bin/R CMD INSTALL IPO StartedAt: 2023-11-01 20:51:57 -0000 (Wed, 01 Nov 2023) EndedAt: 2023-11-01 20:52:57 -0000 (Wed, 01 Nov 2023) EllapsedTime: 60.7 seconds RetCode: 0 Status: OK