Package: IPO Version: 1.28.0 Command: rm -rf IPO.buildbin-libdir && mkdir IPO.buildbin-libdir && /Users/biocbuild/BBS/utils/build-universal.sh IPO_1.28.0.tar.gz /Library/Frameworks/R.framework/Resources/bin/R IPO.buildbin-libdir StartedAt: 2024-03-04 00:46:52 -0500 (Mon, 04 Mar 2024) EndedAt: 2024-03-04 00:47:57 -0500 (Mon, 04 Mar 2024) EllapsedTime: 64.6 seconds RetCode: 0 Status: OK PackageFile: IPO_1.28.0.tgz PackageFileSize: 720.2 KiB