Package: IPO Version: 1.28.0 Command: /Library/Frameworks/R.framework/Resources/bin/R CMD build --keep-empty-dirs --no-resave-data IPO StartedAt: 2024-04-15 19:32:24 -0400 (Mon, 15 Apr 2024) EndedAt: 2024-04-15 20:05:46 -0400 (Mon, 15 Apr 2024) EllapsedTime: 2002.1 seconds RetCode: 0 Status: OK PackageFile: IPO_1.28.0.tar.gz PackageFileSize: 854.1 KiB