Package: IPO Version: 1.28.0 Command: /home/biocbuild/bbs-3.18-bioc/R/bin/R CMD build --keep-empty-dirs --no-resave-data IPO StartedAt: 2024-04-15 17:38:43 -0400 (Mon, 15 Apr 2024) EndedAt: 2024-04-15 17:55:22 -0400 (Mon, 15 Apr 2024) EllapsedTime: 999.0 seconds RetCode: 0 Status: OK PackageFile: IPO_1.28.0.tar.gz PackageFileSize: 728.7 KiB