Package: IPO Version: 1.28.0 Command: rm -rf IPO.buildbin-libdir && mkdir IPO.buildbin-libdir && F:\biocbuild\bbs-3.18-bioc\R\bin\R.exe CMD INSTALL --build --library=IPO.buildbin-libdir IPO_1.28.0.tar.gz StartedAt: 2024-04-16 07:10:40 -0400 (Tue, 16 Apr 2024) EndedAt: 2024-04-16 07:11:45 -0400 (Tue, 16 Apr 2024) EllapsedTime: 64.7 seconds RetCode: 0 Status: OK PackageFile: IPO_1.28.0.zip PackageFileSize: 500.2 KiB