Package: IPO Version: 1.28.0 Command: chmod a+r IPO -R && F:\biocbuild\bbs-3.18-bioc\R\bin\R.exe CMD build --keep-empty-dirs --no-resave-data IPO StartedAt: 2024-04-15 19:10:54 -0400 (Mon, 15 Apr 2024) EndedAt: 2024-04-15 19:44:55 -0400 (Mon, 15 Apr 2024) EllapsedTime: 2041.1 seconds RetCode: 0 Status: OK PackageFile: IPO_1.28.0.tar.gz PackageFileSize: 540.5 KiB