Package: ISAnalytics Version: 1.12.0 Command: /home/biocbuild/R/R-4.3.1/bin/R CMD build --keep-empty-dirs --no-resave-data ISAnalytics StartedAt: 2023-11-02 02:26:07 -0000 (Thu, 02 Nov 2023) EndedAt: 2023-11-02 02:29:00 -0000 (Thu, 02 Nov 2023) EllapsedTime: 173.2 seconds RetCode: 0 Status: OK PackageFile: ISAnalytics_1.12.0.tar.gz PackageFileSize: 4.482 MiB