Package: ISAnalytics Version: 1.12.0 Command: F:\biocbuild\bbs-3.18-bioc\R\bin\R.exe CMD check --no-multiarch --install=check:ISAnalytics.install-out.txt --library=F:\biocbuild\bbs-3.18-bioc\R\library --no-vignettes --timings ISAnalytics_1.12.0.tar.gz StartedAt: 2024-04-16 01:55:45 -0400 (Tue, 16 Apr 2024) EndedAt: 2024-04-16 02:04:58 -0400 (Tue, 16 Apr 2024) EllapsedTime: 552.9 seconds RetCode: 0 Status: OK CheckDir: ISAnalytics.Rcheck Warnings: 0