Package: ITALICS Version: 2.62.0 Command: /home/biocbuild/R/R-4.3.1/bin/R CMD check --install=check:ITALICS.install-out.txt --library=/home/biocbuild/R/R-4.3.1/site-library --no-vignettes --timings ITALICS_2.62.0.tar.gz StartedAt: 2023-11-02 11:35:46 -0000 (Thu, 02 Nov 2023) EndedAt: 2023-11-02 11:39:47 -0000 (Thu, 02 Nov 2023) EllapsedTime: 240.9 seconds RetCode: 0 Status: OK CheckDir: ITALICS.Rcheck Warnings: 0