Package: ITALICS Version: 2.62.0 Command: /Library/Frameworks/R.framework/Resources/bin/R CMD check --install=check:ITALICS.install-out.txt --library=/Library/Frameworks/R.framework/Resources/library --no-vignettes --timings ITALICS_2.62.0.tar.gz StartedAt: 2024-03-03 21:23:19 -0500 (Sun, 03 Mar 2024) EndedAt: 2024-03-03 21:26:59 -0500 (Sun, 03 Mar 2024) EllapsedTime: 219.8 seconds RetCode: 0 Status: OK CheckDir: ITALICS.Rcheck Warnings: 0