Package: ITALICS Version: 2.62.0 Command: /Library/Frameworks/R.framework/Resources/bin/R CMD check --install=check:ITALICS.install-out.txt --library=/Library/Frameworks/R.framework/Resources/library --no-vignettes --timings ITALICS_2.62.0.tar.gz StartedAt: 2024-04-16 04:28:09 -0400 (Tue, 16 Apr 2024) EndedAt: 2024-04-16 04:34:41 -0400 (Tue, 16 Apr 2024) EllapsedTime: 391.5 seconds RetCode: 0 Status: OK CheckDir: ITALICS.Rcheck Warnings: 0