Package: IVAS Version: 2.22.0 Command: rm -rf IVAS.buildbin-libdir && mkdir IVAS.buildbin-libdir && /Users/biocbuild/BBS/utils/build-universal.sh IVAS_2.22.0.tar.gz /Library/Frameworks/R.framework/Resources/bin/R IVAS.buildbin-libdir StartedAt: 2024-03-04 00:47:28 -0500 (Mon, 04 Mar 2024) EndedAt: 2024-03-04 00:48:29 -0500 (Mon, 04 Mar 2024) EllapsedTime: 60.7 seconds RetCode: 0 Status: OK PackageFile: IVAS_2.22.0.tgz PackageFileSize: 687.5 KiB