Package: IVAS Version: 2.22.0 Command: rm -rf IVAS.buildbin-libdir && mkdir IVAS.buildbin-libdir && /Users/biocbuild/BBS/utils/build-universal.sh IVAS_2.22.0.tar.gz /Library/Frameworks/R.framework/Resources/bin/R IVAS.buildbin-libdir StartedAt: 2024-04-16 12:03:26 -0400 (Tue, 16 Apr 2024) EndedAt: 2024-04-16 12:05:29 -0400 (Tue, 16 Apr 2024) EllapsedTime: 122.7 seconds RetCode: 0 Status: OK PackageFile: IVAS_2.22.0.tgz PackageFileSize: 680.4 KiB