Package: IVAS Version: 2.22.0 Command: /Library/Frameworks/R.framework/Resources/bin/R CMD build --keep-empty-dirs --no-resave-data IVAS StartedAt: 2024-04-15 19:35:53 -0400 (Mon, 15 Apr 2024) EndedAt: 2024-04-15 19:38:29 -0400 (Mon, 15 Apr 2024) EllapsedTime: 156.6 seconds RetCode: 0 Status: OK PackageFile: IVAS_2.22.0.tar.gz PackageFileSize: 252.4 KiB