Package: IVAS Version: 2.22.0 Command: chmod a+r IVAS -R && F:\biocbuild\bbs-3.18-bioc\R\bin\R.exe CMD build --keep-empty-dirs --no-resave-data IVAS StartedAt: 2024-04-15 19:13:37 -0400 (Mon, 15 Apr 2024) EndedAt: 2024-04-15 19:15:01 -0400 (Mon, 15 Apr 2024) EllapsedTime: 83.3 seconds RetCode: 0 Status: OK PackageFile: IVAS_2.22.0.tar.gz PackageFileSize: 245.2 KiB