Package: IdeoViz Version: 1.37.0 Command: /Library/Frameworks/R.framework/Resources/bin/R CMD check --install=check:IdeoViz.install-out.txt --library=/Library/Frameworks/R.framework/Resources/library --no-vignettes --timings IdeoViz_1.37.0.tar.gz StartedAt: 2023-10-22 20:33:20 -0400 (Sun, 22 Oct 2023) EndedAt: 2023-10-22 20:35:17 -0400 (Sun, 22 Oct 2023) EllapsedTime: 117.7 seconds RetCode: 1 Status: ERROR CheckDir: IdeoViz.Rcheck Warnings: NA