Package: IdeoViz Version: 1.38.0 Command: /Library/Frameworks/R.framework/Resources/bin/R CMD INSTALL IdeoViz StartedAt: 2024-03-03 15:16:29 -0500 (Sun, 03 Mar 2024) EndedAt: 2024-03-03 15:17:11 -0500 (Sun, 03 Mar 2024) EllapsedTime: 42.4 seconds RetCode: 0 Status: OK