Package: IdeoViz Version: 1.38.0 Command: /home/biocbuild/bbs-3.18-bioc/R/bin/R CMD build --keep-empty-dirs --no-resave-data IdeoViz StartedAt: 2024-04-15 17:33:33 -0400 (Mon, 15 Apr 2024) EndedAt: 2024-04-15 17:34:16 -0400 (Mon, 15 Apr 2024) EllapsedTime: 42.6 seconds RetCode: 1 Status: ERROR PackageFile: None PackageFileSize: NA