Package: IdeoViz Version: 1.37.0 Command: /home/biocbuild/bbs-3.18-bioc/R/bin/R CMD check --install=check:IdeoViz.install-out.txt --library=/home/biocbuild/bbs-3.18-bioc/R/site-library --timings IdeoViz_1.37.0.tar.gz StartedAt: 2023-10-22 22:37:19 -0400 (Sun, 22 Oct 2023) EndedAt: 2023-10-22 22:39:36 -0400 (Sun, 22 Oct 2023) EllapsedTime: 137.1 seconds RetCode: 1 Status: ERROR CheckDir: IdeoViz.Rcheck Warnings: NA