Package: IdeoViz Version: 1.37.0 Command: rm -rf IdeoViz.buildbin-libdir && mkdir IdeoViz.buildbin-libdir && F:\biocbuild\bbs-3.18-bioc\R\bin\R.exe CMD INSTALL --build --library=IdeoViz.buildbin-libdir IdeoViz_1.37.0.tar.gz StartedAt: 2023-10-21 08:55:25 -0400 (Sat, 21 Oct 2023) EndedAt: 2023-10-21 08:56:04 -0400 (Sat, 21 Oct 2023) EllapsedTime: 38.6 seconds RetCode: 0 Status: OK PackageFile: IdeoViz_1.37.0.zip PackageFileSize: 966.2 KiB