Package: ImmuneSpaceR Version: 1.30.0 Command: /Library/Frameworks/R.framework/Resources/bin/R CMD check --install=check:ImmuneSpaceR.install-out.txt --library=/Library/Frameworks/R.framework/Resources/library --no-vignettes --timings ImmuneSpaceR_1.30.0.tar.gz StartedAt: 2023-11-06 20:44:13 -0500 (Mon, 06 Nov 2023) EndedAt: 2023-11-06 20:46:04 -0500 (Mon, 06 Nov 2023) EllapsedTime: 111.1 seconds RetCode: 0 Status: OK CheckDir: ImmuneSpaceR.Rcheck Warnings: 0