Package: IntEREst Version: 1.26.0 Command: /home/biocbuild/R/R-4.3.1/bin/R CMD check --install=check:IntEREst.install-out.txt --library=/home/biocbuild/R/R-4.3.1/site-library --no-vignettes --timings IntEREst_1.26.0.tar.gz StartedAt: 2023-11-02 11:30:05 -0000 (Thu, 02 Nov 2023) EndedAt: 2023-11-02 11:38:11 -0000 (Thu, 02 Nov 2023) EllapsedTime: 486.1 seconds RetCode: 1 Status: ERROR CheckDir: IntEREst.Rcheck Warnings: NA