Package: IntEREst Version: 1.26.0 Command: /home/biocbuild/bbs-3.18-bioc/R/bin/R CMD build --keep-empty-dirs --no-resave-data IntEREst StartedAt: 2024-04-15 17:38:10 -0400 (Mon, 15 Apr 2024) EndedAt: 2024-04-15 17:39:41 -0400 (Mon, 15 Apr 2024) EllapsedTime: 90.6 seconds RetCode: 0 Status: OK PackageFile: IntEREst_1.26.0.tar.gz PackageFileSize: 1.396 MiB