Package: IntOMICS Version: 1.2.0 Command: /Library/Frameworks/R.framework/Resources/bin/R CMD INSTALL IntOMICS StartedAt: 2024-01-02 15:41:46 -0500 (Tue, 02 Jan 2024) EndedAt: 2024-01-02 15:42:34 -0500 (Tue, 02 Jan 2024) EllapsedTime: 47.9 seconds RetCode: 0 Status: OK