Package: IntOMICS Version: 1.2.0 Command: /home/biocbuild/bbs-3.18-bioc/R/bin/R CMD build --keep-empty-dirs --no-resave-data IntOMICS StartedAt: 2024-01-02 17:32:04 -0500 (Tue, 02 Jan 2024) EndedAt: 2024-01-02 17:34:01 -0500 (Tue, 02 Jan 2024) EllapsedTime: 117.5 seconds RetCode: 0 Status: OK PackageFile: IntOMICS_1.2.0.tar.gz PackageFileSize: 2.413 MiB