Package: IntOMICS Version: 1.2.0 Command: chmod a+r IntOMICS -R && F:\biocbuild\bbs-3.18-bioc\R\bin\R.exe CMD build --keep-empty-dirs --no-resave-data IntOMICS StartedAt: 2024-01-02 19:31:46 -0500 (Tue, 02 Jan 2024) EndedAt: 2024-01-02 19:33:37 -0500 (Tue, 02 Jan 2024) EllapsedTime: 111.4 seconds RetCode: 0 Status: OK PackageFile: IntOMICS_1.2.0.tar.gz PackageFileSize: 2.275 MiB