Package: IsoBayes Version: 1.0.0 Command: /home/biocbuild/R/R-4.3.1/bin/R CMD build --keep-empty-dirs --no-resave-data IsoBayes StartedAt: 2023-11-02 02:29:05 -0000 (Thu, 02 Nov 2023) EndedAt: 2023-11-02 02:32:01 -0000 (Thu, 02 Nov 2023) EllapsedTime: 176.2 seconds RetCode: 0 Status: OK PackageFile: IsoBayes_1.0.0.tar.gz PackageFileSize: 1.483 MiB