Package: IsoBayes Version: 1.0.0 Command: /home/biocbuild/R/R-4.3.1/bin/R CMD check --install=check:IsoBayes.install-out.txt --library=/home/biocbuild/R/R-4.3.1/site-library --no-vignettes --timings IsoBayes_1.0.0.tar.gz StartedAt: 2023-11-02 11:34:11 -0000 (Thu, 02 Nov 2023) EndedAt: 2023-11-02 11:42:01 -0000 (Thu, 02 Nov 2023) EllapsedTime: 470.1 seconds RetCode: 1 Status: ERROR CheckDir: IsoBayes.Rcheck Warnings: NA