Package: IsoBayes Version: 1.0.1 Command: rm -rf IsoBayes.buildbin-libdir && mkdir IsoBayes.buildbin-libdir && /Users/biocbuild/BBS/utils/build-universal.sh IsoBayes_1.0.1.tar.gz /Library/Frameworks/R.framework/Resources/bin/R IsoBayes.buildbin-libdir StartedAt: 2024-03-04 00:47:15 -0500 (Mon, 04 Mar 2024) EndedAt: 2024-03-04 00:48:22 -0500 (Mon, 04 Mar 2024) EllapsedTime: 67.0 seconds RetCode: 0 Status: OK PackageFile: IsoBayes_1.0.1.tgz PackageFileSize: 1.567 MiB