Package: IsoBayes Version: 1.0.1 Command: /Library/Frameworks/R.framework/Resources/bin/R CMD check --install=check:IsoBayes.install-out.txt --library=/Library/Frameworks/R.framework/Resources/library --no-vignettes --timings IsoBayes_1.0.1.tar.gz StartedAt: 2024-03-03 21:22:21 -0500 (Sun, 03 Mar 2024) EndedAt: 2024-03-03 21:30:04 -0500 (Sun, 03 Mar 2024) EllapsedTime: 463.0 seconds RetCode: 0 Status: OK CheckDir: IsoBayes.Rcheck Warnings: 0