Package: IsoBayes Version: 1.0.1 Command: /Library/Frameworks/R.framework/Resources/bin/R CMD INSTALL IsoBayes StartedAt: 2024-03-03 15:12:24 -0500 (Sun, 03 Mar 2024) EndedAt: 2024-03-03 15:13:26 -0500 (Sun, 03 Mar 2024) EllapsedTime: 62.1 seconds RetCode: 0 Status: OK