Package: IsoBayes Version: 1.0.1 Command: rm -rf IsoBayes.buildbin-libdir && mkdir IsoBayes.buildbin-libdir && /Users/biocbuild/BBS/utils/build-universal.sh IsoBayes_1.0.1.tar.gz /Library/Frameworks/R.framework/Resources/bin/R IsoBayes.buildbin-libdir StartedAt: 2024-04-16 12:02:50 -0400 (Tue, 16 Apr 2024) EndedAt: 2024-04-16 12:05:28 -0400 (Tue, 16 Apr 2024) EllapsedTime: 157.3 seconds RetCode: 0 Status: OK PackageFile: IsoBayes_1.0.1.tgz PackageFileSize: 1.568 MiB