Package: IsoBayes Version: 1.0.1 Command: /Library/Frameworks/R.framework/Resources/bin/R CMD build --keep-empty-dirs --no-resave-data IsoBayes StartedAt: 2024-04-15 19:35:09 -0400 (Mon, 15 Apr 2024) EndedAt: 2024-04-15 19:39:35 -0400 (Mon, 15 Apr 2024) EllapsedTime: 265.6 seconds RetCode: 0 Status: OK PackageFile: IsoBayes_1.0.1.tar.gz PackageFileSize: 1.47 MiB