Package: IsoBayes Version: 1.0.1 Command: F:\biocbuild\bbs-3.18-bioc\R\bin\R.exe CMD check --no-multiarch --install=check:IsoBayes.install-out.txt --library=F:\biocbuild\bbs-3.18-bioc\R\library --no-vignettes --timings IsoBayes_1.0.1.tar.gz StartedAt: 2024-04-16 01:59:02 -0400 (Tue, 16 Apr 2024) EndedAt: 2024-04-16 02:06:30 -0400 (Tue, 16 Apr 2024) EllapsedTime: 448.2 seconds RetCode: 0 Status: OK CheckDir: IsoBayes.Rcheck Warnings: 0