Package: IsoCorrectoRGUI Version: 1.18.0 Command: /Library/Frameworks/R.framework/Resources/bin/R CMD build --keep-empty-dirs --no-resave-data IsoCorrectoRGUI StartedAt: 2024-03-03 17:10:05 -0500 (Sun, 03 Mar 2024) EndedAt: 2024-03-03 17:10:19 -0500 (Sun, 03 Mar 2024) EllapsedTime: 13.7 seconds RetCode: 0 Status: OK PackageFile: IsoCorrectoRGUI_1.18.0.tar.gz PackageFileSize: 438.9 KiB