Package: IsoCorrectoRGUI Version: 1.18.0 Command: /Library/Frameworks/R.framework/Resources/bin/R CMD check --install=check:IsoCorrectoRGUI.install-out.txt --library=/Library/Frameworks/R.framework/Resources/library --no-vignettes --timings IsoCorrectoRGUI_1.18.0.tar.gz StartedAt: 2024-03-03 21:22:42 -0500 (Sun, 03 Mar 2024) EndedAt: 2024-03-03 21:23:40 -0500 (Sun, 03 Mar 2024) EllapsedTime: 58.8 seconds RetCode: 0 Status: OK CheckDir: IsoCorrectoRGUI.Rcheck Warnings: 0