Package: IsoCorrectoRGUI Version: 1.18.0 Command: rm -rf IsoCorrectoRGUI.buildbin-libdir && mkdir IsoCorrectoRGUI.buildbin-libdir && F:\biocbuild\bbs-3.18-bioc\R\bin\R.exe CMD INSTALL --build --library=IsoCorrectoRGUI.buildbin-libdir IsoCorrectoRGUI_1.18.0.tar.gz StartedAt: 2024-04-16 07:11:21 -0400 (Tue, 16 Apr 2024) EndedAt: 2024-04-16 07:11:29 -0400 (Tue, 16 Apr 2024) EllapsedTime: 9.0 seconds RetCode: 0 Status: OK PackageFile: IsoCorrectoRGUI_1.18.0.zip PackageFileSize: 484.1 KiB